BEGIN:VCALENDAR
VERSION:2.0
PRODID:-//LincWay - ECPv6.15.15//NONSGML v1.0//EN
CALSCALE:GREGORIAN
METHOD:PUBLISH
X-WR-CALNAME:LincWay
X-ORIGINAL-URL:https://lincway.us
X-WR-CALDESC:Events for LincWay
REFRESH-INTERVAL;VALUE=DURATION:PT1H
X-Robots-Tag:noindex
X-PUBLISHED-TTL:PT1H
BEGIN:VTIMEZONE
TZID:America/New_York
BEGIN:DAYLIGHT
TZOFFSETFROM:-0500
TZOFFSETTO:-0400
TZNAME:EDT
DTSTART:20250309T070000
END:DAYLIGHT
BEGIN:STANDARD
TZOFFSETFROM:-0400
TZOFFSETTO:-0500
TZNAME:EST
DTSTART:20251102T060000
END:STANDARD
BEGIN:DAYLIGHT
TZOFFSETFROM:-0500
TZOFFSETTO:-0400
TZNAME:EDT
DTSTART:20260308T070000
END:DAYLIGHT
BEGIN:STANDARD
TZOFFSETFROM:-0400
TZOFFSETTO:-0500
TZNAME:EST
DTSTART:20261101T060000
END:STANDARD
BEGIN:DAYLIGHT
TZOFFSETFROM:-0500
TZOFFSETTO:-0400
TZNAME:EDT
DTSTART:20270314T070000
END:DAYLIGHT
BEGIN:STANDARD
TZOFFSETFROM:-0400
TZOFFSETTO:-0500
TZNAME:EST
DTSTART:20271107T060000
END:STANDARD
END:VTIMEZONE
BEGIN:VEVENT
DTSTART;TZID=America/New_York:20260324T180000
DTEND;TZID=America/New_York:20260324T200000
DTSTAMP:20260424T073046
CREATED:20260224T193553Z
LAST-MODIFIED:20260317T152534Z
UID:735-1774375200-1774382400@lincway.us
SUMMARY:Be Praised (Visual Journaling) with Faith Based Art
DESCRIPTION:Using Mac Powell’s song “Be Praised” as inspiration\, artists will create a 9” x 12” work of art using a variety of mixed media materials and techniques. \nThis class is designed to meet the needs of all ages and ability levels. All supplies will be provided. \nClick the link below to register.
URL:https://lincway.us/event/be-praised-visual-journaling-with-faith-based-art/
LOCATION:LincWay Art Studio\, 258 Kurzen Rd. N\, Dalton\, OH\, 44618\, United States
CATEGORIES:LincWay Art Studio
ATTACH;FMTTYPE=image/png:https://lincway.us/wp-content/uploads/2026/03/Faithbased-added.png
END:VEVENT
END:VCALENDAR