BEGIN:VCALENDAR
VERSION:2.0
PRODID:-//LincWay - ECPv6.15.15//NONSGML v1.0//EN
CALSCALE:GREGORIAN
METHOD:PUBLISH
X-WR-CALNAME:LincWay
X-ORIGINAL-URL:https://lincway.us
X-WR-CALDESC:Events for LincWay
REFRESH-INTERVAL;VALUE=DURATION:PT1H
X-Robots-Tag:noindex
X-PUBLISHED-TTL:PT1H
BEGIN:VTIMEZONE
TZID:America/New_York
BEGIN:DAYLIGHT
TZOFFSETFROM:-0500
TZOFFSETTO:-0400
TZNAME:EDT
DTSTART:20250309T070000
END:DAYLIGHT
BEGIN:STANDARD
TZOFFSETFROM:-0400
TZOFFSETTO:-0500
TZNAME:EST
DTSTART:20251102T060000
END:STANDARD
BEGIN:DAYLIGHT
TZOFFSETFROM:-0500
TZOFFSETTO:-0400
TZNAME:EDT
DTSTART:20260308T070000
END:DAYLIGHT
BEGIN:STANDARD
TZOFFSETFROM:-0400
TZOFFSETTO:-0500
TZNAME:EST
DTSTART:20261101T060000
END:STANDARD
BEGIN:DAYLIGHT
TZOFFSETFROM:-0500
TZOFFSETTO:-0400
TZNAME:EDT
DTSTART:20270314T070000
END:DAYLIGHT
BEGIN:STANDARD
TZOFFSETFROM:-0400
TZOFFSETTO:-0500
TZNAME:EST
DTSTART:20271107T060000
END:STANDARD
END:VTIMEZONE
BEGIN:VEVENT
DTSTART;TZID=America/New_York:20260316T110000
DTEND;TZID=America/New_York:20260316T170000
DTSTAMP:20260423T140931
CREATED:20260126T181849Z
LAST-MODIFIED:20260126T185359Z
UID:616-1773658800-1773680400@lincway.us
SUMMARY:Monday LincWay Scappers -Scrapbooking with Marita Regier CM Independent Advisor
DESCRIPTION:Ready to get your photos out of your phone and into albums? Join our scrapbooking classes where you’ll create simple\, fast pages and leave with completed layouts! \n✔ Multiple class levels available \n✔ Bring 8–10 photos from one event \n✔ All skill levels welcome \n✔ Optional page kits available \nBring your supplies or grab what you need on-site and enjoy a fun\, relaxing creative experience with fellow crafters. \nLincWay Scrappers Mondays \n\n\n📩 For details about upcoming classes\, to RSVP\, and cost to participate contact: \n\n\nMarita Regier \n330-317-7799 \n\n\nmaritaregier@gmail.com \n\n\nBeginners class. Advanced class. Card making classes available.
URL:https://lincway.us/event/monday-lincway-scappers-scrapbooking-with-marita-regier-cm-independent-advisor-4/
LOCATION:Lincway Conference Room\, 258 Kurzen Rd. N\, Dalton\, --None--\, 44618\, United States
CATEGORIES:LincWay Art Studio,Scrapbooking
ATTACH;FMTTYPE=image/jpeg:https://lincway.us/wp-content/uploads/2026/01/Event-cover.jpg
END:VEVENT
BEGIN:VEVENT
DTSTART;TZID=America/New_York:20260318T100000
DTEND;TZID=America/New_York:20260318T120000
DTSTAMP:20260423T140931
CREATED:20260224T193140Z
LAST-MODIFIED:20260225T150518Z
UID:731-1773828000-1773835200@lincway.us
SUMMARY:Watercolor Walrus with Faith Based Art Space
DESCRIPTION:Artists will learn how to draw a walrus using simple shapes. Watercolor painting techniques will be implemented to practice blending colors in a gradient\, outlining with paint and bleeding it into spaces by using water only. Paper snowflakes will be created to add a mixed media component to the background of this 18” x 24” work of art. Recommended ages elementary and above. \nThis class is designed to meet the needs of all ages and ability levels. All supplies will be provided. \nClick the link at the bottom of this page to register.
URL:https://lincway.us/event/watercolor-walrus-with-faith-based-art-space/
LOCATION:LincWay Art Studio\, 258 Kurzen Rd. N\, Dalton\, OH\, 44618\, United States
CATEGORIES:LincWay Art Studio
ATTACH;FMTTYPE=image/jpeg:https://lincway.us/wp-content/uploads/2026/02/Faith-Based-art-March-25-1.jpg
END:VEVENT
BEGIN:VEVENT
DTSTART;TZID=America/New_York:20260318T123000
DTEND;TZID=America/New_York:20260318T143000
DTSTAMP:20260423T140931
CREATED:20260224T190808Z
LAST-MODIFIED:20260225T145803Z
UID:724-1773837000-1773844200@lincway.us
SUMMARY:Inspiring Hands - (Drawing Series) with Faith Based Art Space
DESCRIPTION:This project is meant for advanced artists who will learn how the brain impacts drawing and how to overcome left hemispheric dominance while creating realistic drawings of their hand through implementing the concept of negative space. Shading techniques will be implemented to add form and value to the finished work. Recommended ages middle school and above. \nStudents will use a picture plane device to successfully create a realistic 9” x 12” drawing of their hand. All materials and supplies will be provided for this class\, just bring your favorite Bible verse. \nClick the Link at the bottom to register.
URL:https://lincway.us/event/inspiring-hands-drawing-series-with-faith-based-art-space/
LOCATION:LincWay Art Studio\, 258 Kurzen Rd. N\, Dalton\, OH\, 44618\, United States
CATEGORIES:LincWay Art Studio
ATTACH;FMTTYPE=image/jpeg:https://lincway.us/wp-content/uploads/2026/02/Faith-Based-art-March-25-1.jpg
END:VEVENT
BEGIN:VEVENT
DTSTART;TZID=America/New_York:20260319T170000
DTEND;TZID=America/New_York:20260319T180000
DTSTAMP:20260423T140931
CREATED:20260217T145406Z
LAST-MODIFIED:20260317T145550Z
UID:694-1773939600-1773943200@lincway.us
SUMMARY:Barn Owl Candles – Candle Making (1 hour classes)
DESCRIPTION:You are invited!\n\n\nWe’re thrilled to invite you to an exciting hour of candle making at LincWay in Dalton! Get ready to unleash your creativity and enjoy a unique experience while crafting your very own scented candles. Don’t miss out on the fun – reserve your spot today and let the magic of Barn Owl Candles light up your day! Click the link below to sign up!\n\n\nDate: March 7th\, 2026.\nTimes to Schedule:  11am\, 12:30pm\, 2pm\, 3:3pm\, 5 pm\, and 6:30pm
URL:https://lincway.us/event/barn-owl-candles-candle-making-1-hour-classes-2/
LOCATION:LincWay Art Studio\, 258 Kurzen Rd. N\, Dalton\, OH\, 44618\, United States
CATEGORIES:LincWay Art Studio
ATTACH;FMTTYPE=image/webp:https://lincway.us/wp-content/uploads/2026/01/Barn-Owl-Candles.webp
END:VEVENT
BEGIN:VEVENT
DTSTART;TZID=America/New_York:20260323T160000
DTEND;TZID=America/New_York:20260323T180000
DTSTAMP:20260423T140931
CREATED:20260224T193404Z
LAST-MODIFIED:20260317T152629Z
UID:733-1774281600-1774288800@lincway.us
SUMMARY:Watercolor Walrus with Faith Based Art Space
DESCRIPTION:Artists will learn how to draw a walrus using simple shapes. Watercolor painting techniques will be implemented to practice blending colors in a gradient\, outlining with paint and bleeding it into spaces by using water only. Paper snowflakes will be created to add a mixed media component to the background of this 18” x 24” work of art. Recommended ages elementary and above. \nThis class is designed to meet the needs of all ages and ability levels. All supplies will be provided. \nClick on the link below to register.
URL:https://lincway.us/event/watercolor-walrus-with-faith-based-art-space-2/
LOCATION:LincWay Art Studio\, 258 Kurzen Rd. N\, Dalton\, OH\, 44618\, United States
CATEGORIES:LincWay Art Studio
ATTACH;FMTTYPE=image/png:https://lincway.us/wp-content/uploads/2026/03/Faithbased-added.png
END:VEVENT
BEGIN:VEVENT
DTSTART;TZID=America/New_York:20260323T183000
DTEND;TZID=America/New_York:20260323T203000
DTSTAMP:20260423T140931
CREATED:20260224T192240Z
LAST-MODIFIED:20260317T152607Z
UID:729-1774290600-1774297800@lincway.us
SUMMARY:Inspiring Hand (Drawing Series) with Faith Based Art Space
DESCRIPTION:This project is meant for advanced artists who will learn how the brain impacts drawing and how to overcome left hemispheric dominance while creating realistic drawings of their hand through implementing the concept of negative space. Shading techniques will be implemented to add form and value to the finished work. Recommended ages middle school and above. \nStudents will use a picture plane device to successfully create a realistic 9” x 12” drawing of their hand. All materials and supplies will be provided for this class\, just bring your favorite Bible verse. \nClick the link at the bottom of the page to register.
URL:https://lincway.us/event/inspiring-hand-drawing-series-with-faith-based-art-space/
LOCATION:LincWay Art Studio\, 258 Kurzen Rd. N\, Dalton\, OH\, 44618\, United States
CATEGORIES:LincWay Art Studio
ATTACH;FMTTYPE=image/png:https://lincway.us/wp-content/uploads/2026/03/Faithbased-added.png
END:VEVENT
BEGIN:VEVENT
DTSTART;TZID=America/New_York:20260324T180000
DTEND;TZID=America/New_York:20260324T200000
DTSTAMP:20260423T140931
CREATED:20260224T193553Z
LAST-MODIFIED:20260317T152534Z
UID:735-1774375200-1774382400@lincway.us
SUMMARY:Be Praised (Visual Journaling) with Faith Based Art
DESCRIPTION:Using Mac Powell’s song “Be Praised” as inspiration\, artists will create a 9” x 12” work of art using a variety of mixed media materials and techniques. \nThis class is designed to meet the needs of all ages and ability levels. All supplies will be provided. \nClick the link below to register.
URL:https://lincway.us/event/be-praised-visual-journaling-with-faith-based-art/
LOCATION:LincWay Art Studio\, 258 Kurzen Rd. N\, Dalton\, OH\, 44618\, United States
CATEGORIES:LincWay Art Studio
ATTACH;FMTTYPE=image/png:https://lincway.us/wp-content/uploads/2026/03/Faithbased-added.png
END:VEVENT
END:VCALENDAR