BEGIN:VCALENDAR
VERSION:2.0
PRODID:-//LincWay - ECPv6.15.15//NONSGML v1.0//EN
CALSCALE:GREGORIAN
METHOD:PUBLISH
X-ORIGINAL-URL:https://lincway.us
X-WR-CALDESC:Events for LincWay
REFRESH-INTERVAL;VALUE=DURATION:PT1H
X-Robots-Tag:noindex
X-PUBLISHED-TTL:PT1H
BEGIN:VTIMEZONE
TZID:America/New_York
BEGIN:DAYLIGHT
TZOFFSETFROM:-0500
TZOFFSETTO:-0400
TZNAME:EDT
DTSTART:20250309T070000
END:DAYLIGHT
BEGIN:STANDARD
TZOFFSETFROM:-0400
TZOFFSETTO:-0500
TZNAME:EST
DTSTART:20251102T060000
END:STANDARD
BEGIN:DAYLIGHT
TZOFFSETFROM:-0500
TZOFFSETTO:-0400
TZNAME:EDT
DTSTART:20260308T070000
END:DAYLIGHT
BEGIN:STANDARD
TZOFFSETFROM:-0400
TZOFFSETTO:-0500
TZNAME:EST
DTSTART:20261101T060000
END:STANDARD
BEGIN:DAYLIGHT
TZOFFSETFROM:-0500
TZOFFSETTO:-0400
TZNAME:EDT
DTSTART:20270314T070000
END:DAYLIGHT
BEGIN:STANDARD
TZOFFSETFROM:-0400
TZOFFSETTO:-0500
TZNAME:EST
DTSTART:20271107T060000
END:STANDARD
END:VTIMEZONE
BEGIN:VEVENT
DTSTART;TZID=America/New_York:20260402T130000
DTEND;TZID=America/New_York:20260404T210000
DTSTAMP:20260424T073945
CREATED:20260317T145302Z
LAST-MODIFIED:20260317T145302Z
UID:754-1775134800-1775336400@lincway.us
SUMMARY:Art Studio Spring Scavenger Hunt!
DESCRIPTION:Come join us over spring break for some “WILD” fun. \nComplete a free scavenger hunt\, learn some fun facts about Wild animals\, and get some fun prizes and coupons! (While supplies last. One prize per person.) \n\n\nThursday- March 26; Friday- March 27; Saturday -March 28 \n\n\nThursday- April 2; Friday- April 3; Saturday -April 4 \n\n\n\nStudio Hours: Thursday: 1-8PM; Friday: 1-9PM; Saturday 10Am-9pm
URL:https://lincway.us/event/art-studio-spring-scavenger-hunt-2/
LOCATION:LincWay Art Studio\, 258 Kurzen Rd. N\, Dalton\, OH\, 44618\, United States
CATEGORIES:LincWay Art Studio
ATTACH;FMTTYPE=image/png:https://lincway.us/wp-content/uploads/2026/03/Art-Scavenger-hunt-2026-spring.png
END:VEVENT
BEGIN:VEVENT
DTSTART;TZID=America/New_York:20260402T183000
DTEND;TZID=America/New_York:20260402T200000
DTSTAMP:20260424T073945
CREATED:20260223T181847Z
LAST-MODIFIED:20260224T184537Z
UID:709-1775154600-1775160000@lincway.us
SUMMARY:Young Adults Bible Study
DESCRIPTION:1st and 3rd Thursday starting in April from 6:30-8 in the LincConnect Room (fireplace room in the cafe). \nCall Kirsten with questions: 330-201-6811
URL:https://lincway.us/event/young-adults-bible-study/
LOCATION:LincWay Cafe Rec/KidsPlay Space\, 258 Kurzen Rd. N Dalton\, Suite E. OH 44618\, Dalton\, OH\, 44618\, United States
ATTACH;FMTTYPE=image/png:https://lincway.us/wp-content/uploads/2026/02/Kirsten-biblew-study.png
END:VEVENT
BEGIN:VEVENT
DTSTART;TZID=America/New_York:20260404T110000
DTEND;TZID=America/New_York:20260404T130000
DTSTAMP:20260424T073945
CREATED:20260224T172426Z
LAST-MODIFIED:20260224T173308Z
UID:718-1775300400-1775307600@lincway.us
SUMMARY:Spring Tea Party - Special Tea demonstration\, tea cup glazing and snacks!
DESCRIPTION:Overview\n\n\n\n\n\nJoin us for a tea class with special guest Kerrie Kaufmann. Enjoy fancy snacks and a tea cup glazing projects in partnership with LincWay.\n\n\n\nThere will be 3 hot teas and 1 iced tea to sample. \nYou will get to relax and glaze an tea cup (we will fire in kiln for future pick up) while siping tea and munching on charcuterie style snacks! \nFeel free to dress up or come casual. Bring your own favorite teacup to drink out of or use one of ours. \n\nRSVP on the Eventbrite link provided at the bottom of this page.  For questions\, call 234-226-8888.
URL:https://lincway.us/event/spring-tea-party-special-tea-demonstration-tea-cup-glazing-and-snacks/
LOCATION:Lincway Conference Room\, 258 Kurzen Rd. N\, Dalton\, --None--\, 44618\, United States
ATTACH;FMTTYPE=image/png:https://lincway.us/wp-content/uploads/2026/02/Spring-time-tea.png
END:VEVENT
BEGIN:VEVENT
DTSTART;TZID=America/New_York:20260406T110000
DTEND;TZID=America/New_York:20260406T170000
DTSTAMP:20260424T073945
CREATED:20260331T155317Z
LAST-MODIFIED:20260331T155317Z
UID:787-1775473200-1775494800@lincway.us
SUMMARY:Monday LincWay Scappers -Scrapbooking with Marita Regier CM Independent Advisor
DESCRIPTION:Ready to get your photos out of your phone and into albums? Join our scrapbooking classes where you’ll create simple\, fast pages and leave with completed layouts! \n✔ Multiple class levels available \n✔ Bring 8–10 photos from one event \n✔ All skill levels welcome \n✔ Optional page kits available \nBring your supplies or grab what you need on-site and enjoy a fun\, relaxing creative experience with fellow crafters. \nLincWay Scrappers Mondays \n\n\n📩 For details about upcoming classes\, to RSVP\, and cost to participate contact: \n\n\nMarita Regier \n330-317-7799 \n\n\nmaritaregier@gmail.com \n\n\nBeginners class. Advanced class. Card making classes available.
URL:https://lincway.us/event/monday-lincway-scappers-scrapbooking-with-marita-regier-cm-independent-advisor-6/
LOCATION:Lincway Conference Room\, 258 Kurzen Rd. N\, Dalton\, --None--\, 44618\, United States
CATEGORIES:Scrapbooking
ATTACH;FMTTYPE=image/jpeg:https://lincway.us/wp-content/uploads/2026/01/Event-cover.jpg
END:VEVENT
BEGIN:VEVENT
DTSTART;TZID=America/New_York:20260411T110000
DTEND;TZID=America/New_York:20260411T120000
DTSTAMP:20260424T073945
CREATED:20260317T150123Z
LAST-MODIFIED:20260406T180418Z
UID:757-1775905200-1775908800@lincway.us
SUMMARY:Barn Owl Candles – Candle Making (1 hour classes)
DESCRIPTION:You are invited!\n\n\nWe’re thrilled to invite you to an exciting hour of candle making at LincWay in Dalton! Get ready to unleash your creativity and enjoy a unique experience while crafting your very own scented candles. Don’t miss out on the fun – reserve your spot today and let the magic of Barn Owl Candles light up your day! Click the link below to sign up!\n\n\nDate: April 11\, 2026.\nTimes to Schedule:  11am
URL:https://lincway.us/event/barn-owl-candles-candle-making-1-hour-classes-3/
LOCATION:LincWay Art Studio\, 258 Kurzen Rd. N\, Dalton\, OH\, 44618\, United States
CATEGORIES:LincWay Art Studio
ATTACH;FMTTYPE=image/webp:https://lincway.us/wp-content/uploads/2026/01/Barn-Owl-Candles.webp
END:VEVENT
BEGIN:VEVENT
DTSTART;TZID=America/New_York:20260413T110000
DTEND;TZID=America/New_York:20260413T170000
DTSTAMP:20260424T073945
CREATED:20260331T155505Z
LAST-MODIFIED:20260331T155506Z
UID:789-1776078000-1776099600@lincway.us
SUMMARY:Monday LincWay Scappers -Scrapbooking with Marita Regier CM Independent Advisor
DESCRIPTION:Ready to get your photos out of your phone and into albums? Join our scrapbooking classes where you’ll create simple\, fast pages and leave with completed layouts! \n✔ Multiple class levels available \n✔ Bring 8–10 photos from one event \n✔ All skill levels welcome \n✔ Optional page kits available \nBring your supplies or grab what you need on-site and enjoy a fun\, relaxing creative experience with fellow crafters. \nLincWay Scrappers Mondays \n\n\n📩 For details about upcoming classes\, to RSVP\, and cost to participate contact: \n\n\nMarita Regier \n330-317-7799 \n\n\nmaritaregier@gmail.com \n\n\nBeginners class. Advanced class. Card making classes available.
URL:https://lincway.us/event/monday-lincway-scappers-scrapbooking-with-marita-regier-cm-independent-advisor-7/
LOCATION:Lincway Conference Room\, 258 Kurzen Rd. N\, Dalton\, --None--\, 44618\, United States
CATEGORIES:Conference Room
ATTACH;FMTTYPE=image/jpeg:https://lincway.us/wp-content/uploads/2026/01/Event-cover.jpg
END:VEVENT
BEGIN:VEVENT
DTSTART;TZID=America/New_York:20260416T183000
DTEND;TZID=America/New_York:20260416T200000
DTSTAMP:20260424T073945
CREATED:20260223T194150Z
LAST-MODIFIED:20260224T184610Z
UID:712-1776364200-1776369600@lincway.us
SUMMARY:Young Adults Bible Study
DESCRIPTION:
URL:https://lincway.us/event/young-adults-bible-study-2/
LOCATION:LincWay Cafe Rec/KidsPlay Space\, 258 Kurzen Rd. N Dalton\, Suite E. OH 44618\, Dalton\, OH\, 44618\, United States
ATTACH;FMTTYPE=image/png:https://lincway.us/wp-content/uploads/2026/02/Kirsten-biblew-study.png
END:VEVENT
BEGIN:VEVENT
DTSTART;TZID=America/New_York:20260423T170000
DTEND;TZID=America/New_York:20260423T180000
DTSTAMP:20260424T073945
CREATED:20260317T150403Z
LAST-MODIFIED:20260417T135826Z
UID:760-1776963600-1776967200@lincway.us
SUMMARY:Barn Owl Candles – Candle Making (1 hour classes)
DESCRIPTION:You are invited!\n\n\nWe’re thrilled to invite you to an exciting hour of candle making at LincWay in Dalton! Get ready to unleash your creativity and enjoy a unique experience while crafting your very own scented candles. Don’t miss out on the fun – reserve your spot today and let the magic of Barn Owl Candles light up your day! Click the link below to sign up!\n\n\nDate: April 23\, 2026.\nTimes to Schedule: 5 pm
URL:https://lincway.us/event/barn-owl-candles-candle-making-1-hour-classes-4/
LOCATION:LincWay Art Studio\, 258 Kurzen Rd. N\, Dalton\, OH\, 44618\, United States
ATTACH;FMTTYPE=image/png:https://lincway.us/wp-content/uploads/2026/03/Barn-owl-April.png
END:VEVENT
BEGIN:VEVENT
DTSTART;TZID=America/New_York:20260425T123000
DTEND;TZID=America/New_York:20260425T143000
DTSTAMP:20260424T073945
CREATED:20260317T152502Z
LAST-MODIFIED:20260317T152502Z
UID:768-1777120200-1777127400@lincway.us
SUMMARY:Inspiring Hand (Drawing Series) with Faith Based Art Space
DESCRIPTION:This project is meant for advanced artists who will learn how the brain impacts drawing and how to overcome left hemispheric dominance while creating realistic drawings of their hand through implementing the concept of negative space. Shading techniques will be implemented to add form and value to the finished work. Recommended ages middle school and above. \nStudents will use a picture plane device to successfully create a realistic 9” x 12” drawing of their hand. All materials and supplies will be provided for this class\, just bring your favorite Bible verse. \nClick the link at the bottom of the page to register.
URL:https://lincway.us/event/inspiring-hand-drawing-series-with-faith-based-art-space-2/
LOCATION:LincWay Art Studio\, 258 Kurzen Rd. N\, Dalton\, OH\, 44618\, United States
ATTACH;FMTTYPE=image/png:https://lincway.us/wp-content/uploads/2026/03/Faithbased-added.png
END:VEVENT
BEGIN:VEVENT
DTSTART;TZID=America/New_York:20260427T180000
DTEND;TZID=America/New_York:20260427T200000
DTSTAMP:20260424T073945
CREATED:20260417T135025Z
LAST-MODIFIED:20260417T135025Z
UID:803-1777312800-1777320000@lincway.us
SUMMARY:Inspirational Bookmaking with Faith Based Art Space
DESCRIPTION:Using a worship song of their choice as inspiration\, artists will create a pop-out accordion book. We will use liquid watercolor to create an expressive background. Colored pencils will be used to create an optical art design while developing shading skills and acrylic paint will be used to create a pop of color. Hot glue will be used to assemble the book. All skills will be taught around the Elements of Art and Principles of Design to create a balanced work of art. \nThis class is designed to meet the needs of all ages and ability levels. All supplies will be provided. \nPlease bring a print out with the lyrics of your favorite worship song. \n\nRsvp:  https://www.faithbasedartspace.com/in-person-classes/p/inspirational-bookmaking-april-27th-600-800-pm
URL:https://lincway.us/event/inspirational-bookmaking-with-faith-based-art-space/
LOCATION:LincWay Art Studio\, 258 Kurzen Rd. N\, Dalton\, OH\, 44618\, United States
CATEGORIES:LincWay Art Studio
ATTACH;FMTTYPE=image/jpeg:https://lincway.us/wp-content/uploads/2026/04/Faith-Based-art-April-26.jpg
END:VEVENT
BEGIN:VEVENT
DTSTART;TZID=America/New_York:20260429T100000
DTEND;TZID=America/New_York:20260429T120000
DTSTAMP:20260424T073945
CREATED:20260417T135514Z
LAST-MODIFIED:20260417T135517Z
UID:806-1777456800-1777464000@lincway.us
SUMMARY:Inspirational Bookmaking with Faith Based Art Space
DESCRIPTION:Using a worship song of their choice as inspiration\, artists will create a pop-out accordion book. We will use liquid watercolor to create an expressive background. Colored pencils will be used to create an optical art design while developing shading skills and acrylic paint will be used to create a pop of color. Hot glue will be used to assemble the book. All skills will be taught around the Elements of Art and Principles of Design to create a balanced work of art. \nThis class is designed to meet the needs of all ages and ability levels. All supplies will be provided. \nPlease bring a print out with the lyrics of your favorite worship song. \n\nRsvp:  https://www.faithbasedartspace.com/in-person-classes/p/inspirational-bookmaking
URL:https://lincway.us/event/inspirational-bookmaking-with-faith-based-art-space-2/
LOCATION:LincWay Art Studio\, 258 Kurzen Rd. N\, Dalton\, OH\, 44618\, United States
CATEGORIES:LincWay Art Studio
ATTACH;FMTTYPE=image/jpeg:https://lincway.us/wp-content/uploads/2026/04/Faith-Based-art-April-26.jpg
END:VEVENT
BEGIN:VEVENT
DTSTART;TZID=America/New_York:20260502T110000
DTEND;TZID=America/New_York:20260502T180000
DTSTAMP:20260424T073945
CREATED:20260331T155739Z
LAST-MODIFIED:20260331T155740Z
UID:791-1777719600-1777744800@lincway.us
SUMMARY:Monday LincWay Scappers -Scrapbooking with Marita Regier CM Independent Advisor
DESCRIPTION:Ready to get your photos out of your phone and into albums? Join our scrapbooking classes where you’ll create simple\, fast pages and leave with completed layouts! \n✔ Multiple class levels available \n✔ Bring 8–10 photos from one event \n✔ All skill levels welcome \n✔ Optional page kits available \nBring your supplies or grab what you need on-site and enjoy a fun\, relaxing creative experience with fellow crafters. \nLincWay Scrappers Mondays \n\n\n📩 For details about upcoming classes\, to RSVP\, and cost to participate contact: \n\n\nMarita Regier \n330-317-7799 \n\n\nmaritaregier@gmail.com \n\n\nBeginners class. Advanced class. Card making classes available.
URL:https://lincway.us/event/monday-lincway-scappers-scrapbooking-with-marita-regier-cm-independent-advisor-8/
LOCATION:Lincway Conference Room\, 258 Kurzen Rd. N\, Dalton\, --None--\, 44618\, United States
CATEGORIES:Scrapbooking
ATTACH;FMTTYPE=image/jpeg:https://lincway.us/wp-content/uploads/2026/01/Event-cover.jpg
END:VEVENT
BEGIN:VEVENT
DTSTART;TZID=America/New_York:20260502T163000
DTEND;TZID=America/New_York:20260502T193000
DTSTAMP:20260424T073945
CREATED:20260417T142030Z
LAST-MODIFIED:20260417T142030Z
UID:808-1777739400-1777750200@lincway.us
SUMMARY:Barn Owl Candles – Candle Making (1 hour classes - see website for time slots)
DESCRIPTION:Our candle making workshop is a fun\, eco-friendly activity for families\, friends\, and anyone who loves to create. \nDiscover the art of candle-making in our hands-on workshop. Create your own custom candle by selecting and blending from 20 plus unique scents. Perfect for beginners or experienced crafters\, this relaxing activity is ideal for individuals or groups up to 12. All materials and guidance are provided for a fun and creative experience. \nHave fun with this creative hands on candle-making. You’ll explore fragrance blending\, learn the essentials of clean-burning candle care\, and pour a 7.25oz candle in one of our handmade hempcrete vessles to take home. \nWhether you’re looking to connect with others\, plan a private party event\, or simply enjoy a cozy creative escape\, this experience blends relaxation\, fun\, and fragrant inspiration. \nWhat’s Included:\nAll materials (vessels\, wax\, wood wicks\, fragrance oils)\nA curated scent bar with unique fragrance blends\nA custom label to name and personalize your candle\nYour finished candle \nThe workshop will last about 45 minutes to 1 hour\, with a 2-hour curing time before your candle is ready to go home.\nClasses will be held at the LincWay Art Studio- use suite D entrance (walk through the pottery area)\nFeel free to message us with any questions. We also do private parties minimum 8 people with a maximum of 14 people. Address: LincWay Cafe and Market\n258 Kurzen Rd N\, Ste E\, Dalton\, OH 44618 \nRSVP at www.barnowlcandles.com \nWe will not offer refunds within 48 hrs of the workshop\,
URL:https://lincway.us/event/barn-owl-candles-candle-making-1-hour-classes-see-website-for-time-slots/
LOCATION:LincWay Art Studio\, 258 Kurzen Rd. N\, Dalton\, OH\, 44618\, United States
ATTACH;FMTTYPE=image/webp:https://lincway.us/wp-content/uploads/2026/01/Barn-Owl-Candles.webp
END:VEVENT
BEGIN:VEVENT
DTSTART;TZID=America/New_York:20260507T183000
DTEND;TZID=America/New_York:20260507T200000
DTSTAMP:20260424T073945
CREATED:20260223T194855Z
LAST-MODIFIED:20260223T194901Z
UID:714-1778178600-1778184000@lincway.us
SUMMARY:Young Adults Bible Study
DESCRIPTION:
URL:https://lincway.us/event/young-adults-bible-study-3/
LOCATION:LincWay Cafe Rec/KidsPlay Space\, 258 Kurzen Rd. N Dalton\, Suite E. OH 44618\, Dalton\, OH\, 44618\, United States
ATTACH;FMTTYPE=image/png:https://lincway.us/wp-content/uploads/2026/02/Kirsten-biblew-study.png
END:VEVENT
BEGIN:VEVENT
DTSTART;TZID=America/New_York:20260521T183000
DTEND;TZID=America/New_York:20260521T200000
DTSTAMP:20260424T073945
CREATED:20260223T200604Z
LAST-MODIFIED:20260223T200608Z
UID:716-1779388200-1779393600@lincway.us
SUMMARY:Young Adults Bible Study
DESCRIPTION:
URL:https://lincway.us/event/young-adults-bible-study-4/
LOCATION:LincWay Cafe Rec/KidsPlay Space\, 258 Kurzen Rd. N Dalton\, Suite E. OH 44618\, Dalton\, OH\, 44618\, United States
ATTACH;FMTTYPE=image/png:https://lincway.us/wp-content/uploads/2026/02/Kirsten-biblew-study.png
END:VEVENT
BEGIN:VEVENT
DTSTART;TZID=America/New_York:20260613T110000
DTEND;TZID=America/New_York:20260613T193000
DTSTAMP:20260424T073945
CREATED:20260417T143643Z
LAST-MODIFIED:20260417T143643Z
UID:811-1781348400-1781379000@lincway.us
SUMMARY:Barn Owl Candles – Candle Making (1 hour classes – see website for time slots)
DESCRIPTION:Our candle making workshop is a fun\, eco-friendly activity for families\, friends\, and anyone who loves to create. \nDiscover the art of candle-making in our hands-on workshop. Create your own custom candle by selecting and blending from 20 plus unique scents. Perfect for beginners or experienced crafters\, this relaxing activity is ideal for individuals or groups up to 12. All materials and guidance are provided for a fun and creative experience. \nHave fun with this creative hands on candle-making. You’ll explore fragrance blending\, learn the essentials of clean-burning candle care\, and pour a 7.25oz candle in one of our handmade hempcrete vessles to take home. \nWhether you’re looking to connect with others\, plan a private party event\, or simply enjoy a cozy creative escape\, this experience blends relaxation\, fun\, and fragrant inspiration. \nWhat’s Included:\nAll materials (vessels\, wax\, wood wicks\, fragrance oils)\nA curated scent bar with unique fragrance blends\nA custom label to name and personalize your candle\nYour finished candle \nThe workshop will last about 45 minutes to 1 hour\, with a 2-hour curing time before your candle is ready to go home.\nClasses will be held at the LincWay Art Studio- use suite D entrance (walk through the pottery area)\nFeel free to message us with any questions. We also do private parties minimum 8 people with a maximum of 14 people. Address: LincWay Cafe and Market\n258 Kurzen Rd N\, Ste E\, Dalton\, OH 44618 \nRSVP at www.barnowlcandles.com \nWe will not offer refunds within 48 hrs of the workshop\,
URL:https://lincway.us/event/barn-owl-candles-candle-making-1-hour-classes-see-website-for-time-slots-2/
LOCATION:LincWay Art Studio\, 258 Kurzen Rd. N\, Dalton\, OH\, 44618\, United States
CATEGORIES:LincWay Art Studio
ATTACH;FMTTYPE=image/webp:https://lincway.us/wp-content/uploads/2026/01/Barn-Owl-Candles.webp
END:VEVENT
END:VCALENDAR