BEGIN:VCALENDAR
VERSION:2.0
PRODID:-//LincWay - ECPv6.15.15//NONSGML v1.0//EN
CALSCALE:GREGORIAN
METHOD:PUBLISH
X-WR-CALNAME:LincWay
X-ORIGINAL-URL:https://lincway.us
X-WR-CALDESC:Events for LincWay
REFRESH-INTERVAL;VALUE=DURATION:PT1H
X-Robots-Tag:noindex
X-PUBLISHED-TTL:PT1H
BEGIN:VTIMEZONE
TZID:America/New_York
BEGIN:DAYLIGHT
TZOFFSETFROM:-0500
TZOFFSETTO:-0400
TZNAME:EDT
DTSTART:20220313T070000
END:DAYLIGHT
BEGIN:STANDARD
TZOFFSETFROM:-0400
TZOFFSETTO:-0500
TZNAME:EST
DTSTART:20221106T060000
END:STANDARD
BEGIN:DAYLIGHT
TZOFFSETFROM:-0500
TZOFFSETTO:-0400
TZNAME:EDT
DTSTART:20230312T070000
END:DAYLIGHT
BEGIN:STANDARD
TZOFFSETFROM:-0400
TZOFFSETTO:-0500
TZNAME:EST
DTSTART:20231105T060000
END:STANDARD
BEGIN:DAYLIGHT
TZOFFSETFROM:-0500
TZOFFSETTO:-0400
TZNAME:EDT
DTSTART:20240310T070000
END:DAYLIGHT
BEGIN:STANDARD
TZOFFSETFROM:-0400
TZOFFSETTO:-0500
TZNAME:EST
DTSTART:20241103T060000
END:STANDARD
BEGIN:DAYLIGHT
TZOFFSETFROM:-0500
TZOFFSETTO:-0400
TZNAME:EDT
DTSTART:20250309T070000
END:DAYLIGHT
BEGIN:STANDARD
TZOFFSETFROM:-0400
TZOFFSETTO:-0500
TZNAME:EST
DTSTART:20251102T060000
END:STANDARD
BEGIN:DAYLIGHT
TZOFFSETFROM:-0500
TZOFFSETTO:-0400
TZNAME:EDT
DTSTART:20260308T070000
END:DAYLIGHT
BEGIN:STANDARD
TZOFFSETFROM:-0400
TZOFFSETTO:-0500
TZNAME:EST
DTSTART:20261101T060000
END:STANDARD
BEGIN:DAYLIGHT
TZOFFSETFROM:-0500
TZOFFSETTO:-0400
TZNAME:EDT
DTSTART:20270314T070000
END:DAYLIGHT
BEGIN:STANDARD
TZOFFSETFROM:-0400
TZOFFSETTO:-0500
TZNAME:EST
DTSTART:20271107T060000
END:STANDARD
END:VTIMEZONE
BEGIN:VEVENT
DTSTART;TZID=America/New_York:20260217T183000
DTEND;TZID=America/New_York:20260217T200000
DTSTAMP:20260424T231744
CREATED:20260121T135323Z
LAST-MODIFIED:20260121T135323Z
UID:586-1771353000-1771358400@lincway.us
SUMMARY:Disc Golf Indoor Putting League
DESCRIPTION:Tuesday nights from January 6 to March 10th at LincWay in Dalton from 6:30 to 8:00 p.m. there will be a disc golf putting league happening in the same area we typically have pickleball. During this time the pickleball courts will be closed. Follow the “Wayne County Disc Golf” Facebook page for updates or questions
URL:https://lincway.us/event/disc-golf-indoor-putting-league-3/
LOCATION:LincWay Cafe Rec/KidsPlay Space\, 258 Kurzen Rd. N Dalton\, Suite E. OH 44618\, Dalton\, OH\, 44618\, United States
CATEGORIES:Rec space
ATTACH;FMTTYPE=image/jpeg:https://lincway.us/wp-content/uploads/2026/01/Disc-golf.jpg
END:VEVENT
BEGIN:VEVENT
DTSTART;TZID=America/New_York:20260214T110000
DTEND;TZID=America/New_York:20260214T133000
DTSTAMP:20260424T231744
CREATED:20260121T141322Z
LAST-MODIFIED:20260209T155629Z
UID:594-1771066800-1771075800@lincway.us
SUMMARY:Barn Owl Candles - Candle Making (1 hour classes)
DESCRIPTION:You are invited!\n\n\nWe’re thrilled to invite you to an exciting hour of candle making at LincWay in Dalton! Get ready to unleash your creativity and enjoy a unique experience while crafting your very own scented candles. Don’t miss out on the fun – reserve your spot today and let the magic of Barn Owl Candles light up your day!\n\n\nDate: Saturday\, Feb 14\, 2026.\nTimes to Schedule:  11am and 12:30pm\nCost: $35/person or $60 for 2 people\nRSVP on website at the bottom of the page so Theresa knows you are coming!
URL:https://lincway.us/event/barn-owl-candles-candle-making-1-hour-classes/
LOCATION:LincWay Art Studio\, 258 Kurzen Rd. N\, Dalton\, OH\, 44618\, United States
CATEGORIES:LincWay Art Studio
ATTACH;FMTTYPE=image/webp:https://lincway.us/wp-content/uploads/2026/01/Barn-Owl-Candles.webp
END:VEVENT
BEGIN:VEVENT
DTSTART;TZID=America/New_York:20260210T183000
DTEND;TZID=America/New_York:20260210T200000
DTSTAMP:20260424T231744
CREATED:20260121T135027Z
LAST-MODIFIED:20260121T140143Z
UID:583-1770748200-1770753600@lincway.us
SUMMARY:Disc Golf Indoor Putting League
DESCRIPTION:Tuesday nights from January 6 to March 10th at LincWay in Dalton from 6:30 to 8:00 p.m. there will be a disc golf putting league happening in the same area we typically have pickleball. During this time the pickleball courts will be closed. Follow the “Wayne County Disc Golf” Facebook page for updates or questions
URL:https://lincway.us/event/583/
LOCATION:LincWay Cafe Rec/KidsPlay Space\, 258 Kurzen Rd. N Dalton\, Suite E. OH 44618\, Dalton\, OH\, 44618\, United States
CATEGORIES:Rec space
ATTACH;FMTTYPE=image/jpeg:https://lincway.us/wp-content/uploads/2026/01/Disc-golf.jpg
END:VEVENT
BEGIN:VEVENT
DTSTART;TZID=America/New_York:20260210T100000
DTEND;TZID=America/New_York:20260210T200000
DTSTAMP:20260424T231744
CREATED:20260208T120359Z
LAST-MODIFIED:20260208T120359Z
UID:677-1770717600-1770753600@lincway.us
SUMMARY:LincWay KidsPlay Opening!
DESCRIPTION:We are excited to have today be the first day to officially open the KidsPlay space.  See our website LincWay.us/kids-play for all the details!
URL:https://lincway.us/event/lincway-kidsplay-opening/
LOCATION:LincWay Cafe Rec/KidsPlay Space\, 258 Kurzen Rd. N Dalton\, Suite E. OH 44618\, Dalton\, OH\, 44618\, United States
CATEGORIES:Rec space
ATTACH;FMTTYPE=image/jpeg:https://lincway.us/wp-content/uploads/2026/01/LincWayKidTown4392-scaled.jpg
END:VEVENT
BEGIN:VEVENT
DTSTART;TZID=America/New_York:20260207T140000
DTEND;TZID=America/New_York:20260207T170000
DTSTAMP:20260424T231744
CREATED:20251127T034102Z
LAST-MODIFIED:20260203T015258Z
UID:556-1770472800-1770483600@lincway.us
SUMMARY:LincWay KidsPlay Opening House
DESCRIPTION:Come join us for this free open house as we celebrate the opening of the LincWay KidsPlay space!! \nWe plan to officially open Monday\, February 9th. \nAt LincWay\, we continue to anticipate the future Wayne County Children’s STEAM Playlab. In the meantime\, we are excited to provide this space! wccsp.org
URL:https://lincway.us/event/lincway-village-opening/
LOCATION:LincWay Cafe Rec/KidsPlay Space\, 258 Kurzen Rd. N Dalton\, Suite E. OH 44618\, Dalton\, OH\, 44618\, United States
CATEGORIES:Rec space
ATTACH;FMTTYPE=image/jpeg:https://lincway.us/wp-content/uploads/2026/01/LincWayKidTown4392-scaled.jpg
END:VEVENT
BEGIN:VEVENT
DTSTART;TZID=America/New_York:20260207T100000
DTEND;TZID=America/New_York:20260207T130000
DTSTAMP:20260424T231744
CREATED:20260126T170024Z
LAST-MODIFIED:20260126T170024Z
UID:607-1770458400-1770469200@lincway.us
SUMMARY:Winter Maker's Market
DESCRIPTION:Join the Wayne County STEAM Playlab for a festive community event celebrating creativity\, innovation\, and young entrepreneurs. We’re proud to support our youth and adults as they showcase their talents\, build confidence\, and learn valuable entrepreneurial skills. This winter market is open to all ages—adults and children alike!\n\nWinter Maker’s Market Registration – Saturday\, February 7th 10am-1pm\n\nRegistration is now open for our Winter Maker’s Market on Saturday\, February 7th. This event is open to both adults and children\, with limited spots available.\n\nPlease register using the appropriate link below:\nChildren (under 18): Register here ➝ https://www.childrensbusinessfair.org/dalton-ohio\nAdults: Register here ➝ https://givebutter.com/z2li5Y\nSpots are limited\, so we encourage early registration.
URL:https://lincway.us/event/winter-makers-market/
LOCATION:LincWay Cafe Rec/KidsPlay Space\, 258 Kurzen Rd. N Dalton\, Suite E. OH 44618\, Dalton\, OH\, 44618\, United States
CATEGORIES:Rec space
ATTACH;FMTTYPE=image/jpeg:https://lincway.us/wp-content/uploads/2026/01/Makers-Market-2.7.jpg
END:VEVENT
BEGIN:VEVENT
DTSTART;TZID=America/New_York:20260203T183000
DTEND;TZID=America/New_York:20260203T200000
DTSTAMP:20260424T231744
CREATED:20260121T134839Z
LAST-MODIFIED:20260121T134924Z
UID:581-1770143400-1770148800@lincway.us
SUMMARY:Disc Golf Indoor Putting League
DESCRIPTION:Tuesday nights from January 6 to March 10th at LincWay in Dalton from 6:30 to 8:00 p.m. there will be a disc golf putting league happening in the same area we typically have pickleball. During this time the pickleball courts will be closed. Follow the “Wayne County Disc Golf” Facebook page for updates or questions
URL:https://lincway.us/event/disc-golf-indoor-putting-league-2/
LOCATION:LincWay Cafe Rec/KidsPlay Space\, 258 Kurzen Rd. N Dalton\, Suite E. OH 44618\, Dalton\, OH\, 44618\, United States
CATEGORIES:Rec space
ATTACH;FMTTYPE=image/jpeg:https://lincway.us/wp-content/uploads/2026/01/Disc-golf.jpg
END:VEVENT
BEGIN:VEVENT
DTSTART;TZID=America/New_York:20260203T183000
DTEND;TZID=America/New_York:20260203T193000
DTSTAMP:20260424T231744
CREATED:20260126T190427Z
LAST-MODIFIED:20260126T195827Z
UID:629-1770143400-1770147000@lincway.us
SUMMARY:Functional Wellness Workshop- "Winning the War on Pain" with Dr. Aric Freischlag
DESCRIPTION:Functional Wellness Workshop- “Winning the War on Pain” with Dr. Aric Freischlag \nFeb 3rd @ 6:30- Join us to understand the metabolic and hormonal roots of pain—not just manage symptoms. Dr. Aric breaks down how blood sugar\, hormones\, inflammation\, stress\, and nutrient status directly influence pain\, fatigue\, weight changes\, and recovery. You’ll learn why pain is often a metabolic signal and what actually helps restore balance so the body can heal and become more resilient long-term. \nFree to attend\, register here: https://forms.gle/jse4RnrM1eRFQybG8 or call us at 330-345-3336!
URL:https://lincway.us/event/functional-wellness-workshop-more-details-to-come-4/
LOCATION:Lincway Conference Room\, 258 Kurzen Rd. N\, Dalton\, --None--\, 44618\, United States
CATEGORIES:Conference Room
ATTACH;FMTTYPE=image/png:https://lincway.us/wp-content/uploads/2026/01/Functional-med-2.3.36.png
END:VEVENT
BEGIN:VEVENT
DTSTART;TZID=America/New_York:20260127T183000
DTEND;TZID=America/New_York:20260127T200000
DTSTAMP:20260424T231744
CREATED:20260121T134420Z
LAST-MODIFIED:20260121T134646Z
UID:574-1769538600-1769544000@lincway.us
SUMMARY:Disc Golf Indoor Putting League
DESCRIPTION:Tuesday nights from January 6 to March 10th at LincWay in Dalton from 6:30 to 8:00 p.m. there will be a disc golf putting league happening in the same area we typically have pickleball. During this time the pickleball courts will be closed. Follow the “Wayne County Disc Golf” Facebook page for updates or questions
URL:https://lincway.us/event/disc-golf-indoor-putting-league/
LOCATION:LincWay Cafe Rec/KidsPlay Space\, 258 Kurzen Rd. N Dalton\, Suite E. OH 44618\, Dalton\, OH\, 44618\, United States
CATEGORIES:Rec space
ATTACH;FMTTYPE=image/jpeg:https://lincway.us/wp-content/uploads/2026/01/Disc-golf.jpg
END:VEVENT
BEGIN:VEVENT
DTSTART;TZID=America/New_York:20260126T110000
DTEND;TZID=America/New_York:20260126T173000
DTSTAMP:20260424T231744
CREATED:20260121T133104Z
LAST-MODIFIED:20260126T185525Z
UID:569-1769425200-1769448600@lincway.us
SUMMARY:Monday LincWay Scappers -Scrapbooking with Marita Regier CM Independent Advisor
DESCRIPTION:Ready to get your photos out of your phone and into albums? Join our scrapbooking classes where you’ll create simple\, fast pages and leave with completed layouts! \n✔ Multiple class levels available \n✔ Bring 8–10 photos from one event \n✔ All skill levels welcome \n✔ Optional page kits available \nBring your supplies or grab what you need on-site and enjoy a fun\, relaxing creative experience with fellow crafters. \nLincWay Scrappers Mondays \n\n\n📩 For details about upcoming classes\, to RSVP\, and cost to participate contact: \n\n\nMarita Regier \n330-317-7799 \n\n\nmaritaregier@gmail.com \n\n\nBeginners class. Advanced class. Card making classes available.
URL:https://lincway.us/event/lincway-scappers-scrapbooking-with-marita/
LOCATION:Lincway Conference Room\, 258 Kurzen Rd. N\, Dalton\, --None--\, 44618\, United States
CATEGORIES:Scrapbooking
ATTACH;FMTTYPE=image/jpeg:https://lincway.us/wp-content/uploads/2026/01/Event-cover.jpg
END:VEVENT
BEGIN:VEVENT
DTSTART;TZID=America/New_York:20230617T120000
DTEND;TZID=America/New_York:20230617T140000
DTSTAMP:20260424T231744
CREATED:20230608T220121Z
LAST-MODIFIED:20230608T220121Z
UID:318-1687003200-1687010400@lincway.us
SUMMARY:Relax it's Art - Paint on Canvas with Jon Kardamis
DESCRIPTION:This paint on canvas class is a 2 hr. long class led by professional artist Jon Kardamis. He will take students with any skill level through a step by step process to create the “Lighthouse on the Bay” piece. Jon’s goal is to reach all people\, both art interested\, and non-art interested individuals\, and share the therapeutic benefits painting can have in their life. All of the supplies will be provided\, including paints\, 9 x 12″ canvas board\, brushes\, palette\, tape\, and palette knife.  \nJon’s experience is 9 years as a professional artist\, creating artwork by direct commission. This is his full-time occupation. More recently Jon has enjoyed leading classes in creating unique landscape paintings. Most children are exposed to art or creativity on a consistent basis\, as this is incredibly beneficial in growth/development. However\, as many become adults\, there is a drop off for creative exposure. This happens for many reasons\, but whether or not someone has a talent for art/creativity should not dictate their involvement. It’s still important for adults to engage in art creative outlets. \nJon plans to have some video and pictures taken in this class so please be aware if you sign up that this is something that you will be included on for this session.
URL:https://lincway.us/event/relax-its-art-paint-on-canvas-with-jon-kardamis/
LOCATION:LincWay Art Studio\, 258 Kurzen Rd. N\, Dalton\, OH\, 44618\, United States
CATEGORIES:LincWay Art Studio,Paint on Canvas
ATTACH;FMTTYPE=image/jpeg:https://lincway.us/wp-content/uploads/2023/06/Lighthouse.jpg
END:VEVENT
END:VCALENDAR